BEGIN:VCALENDAR
VERSION:2.0
PRODID:-//Immanuel Baptist Church - ECPv6.15.20//NONSGML v1.0//EN
CALSCALE:GREGORIAN
METHOD:PUBLISH
X-WR-CALNAME:Immanuel Baptist Church
X-ORIGINAL-URL:https://ibcfrankfort.com
X-WR-CALDESC:Events for Immanuel Baptist Church
REFRESH-INTERVAL;VALUE=DURATION:PT1H
X-Robots-Tag:noindex
X-PUBLISHED-TTL:PT1H
BEGIN:VTIMEZONE
TZID:America/New_York
BEGIN:DAYLIGHT
TZOFFSETFROM:-0500
TZOFFSETTO:-0400
TZNAME:EDT
DTSTART:20240310T070000
END:DAYLIGHT
BEGIN:STANDARD
TZOFFSETFROM:-0400
TZOFFSETTO:-0500
TZNAME:EST
DTSTART:20241103T060000
END:STANDARD
BEGIN:DAYLIGHT
TZOFFSETFROM:-0500
TZOFFSETTO:-0400
TZNAME:EDT
DTSTART:20250309T070000
END:DAYLIGHT
BEGIN:STANDARD
TZOFFSETFROM:-0400
TZOFFSETTO:-0500
TZNAME:EST
DTSTART:20251102T060000
END:STANDARD
BEGIN:DAYLIGHT
TZOFFSETFROM:-0500
TZOFFSETTO:-0400
TZNAME:EDT
DTSTART:20260308T070000
END:DAYLIGHT
BEGIN:STANDARD
TZOFFSETFROM:-0400
TZOFFSETTO:-0500
TZNAME:EST
DTSTART:20261101T060000
END:STANDARD
END:VTIMEZONE
BEGIN:VEVENT
DTSTART;TZID=America/New_York:20251029T170000
DTEND;TZID=America/New_York:20251029T190000
DTSTAMP:20260424T173837
CREATED:20250929T145123Z
LAST-MODIFIED:20251006T191022Z
UID:30000556-1761757200-1761764400@ibcfrankfort.com
SUMMARY:Wednesday Night Dinners
DESCRIPTION:Beginning on October 15\, we will begin having Wednesday Night Dinners and programming as Part II of our Thriving Congregations experiment. We will be learning more about the unhoused community in Frankfort and hearing from people throughout the city and county who work with those who are living without homes in our community. \nOur schedule will once again be: \n5:00 p.m. – Dinner\n6:00 p.m. – Program\n7:00 p.m. – Choir Rehearsal \nThis time around\, we will offer programming and/or nursery for the children during the presentation portion of the dinners. \nDinners will conclude on November 19\, with a service project during the week of Thanksgiving. One goal of our learning will be to determine how we can best be of service to the unhoused community as the holidays begin – and we will put one of our ideas into action before Thanksgiving. \nPlease join us for these important gatherings!
URL:https://ibcfrankfort.com/event/wednesday-night-dinners/2025-10-29/
CATEGORIES:Adults,Children,Churchwide Events,Missions,Youth
ATTACH;FMTTYPE=image/png:https://ibcfrankfort.com/wp-content/uploads/2025/09/Revision.png
END:VEVENT
BEGIN:VEVENT
DTSTART;TZID=America/New_York:20251029T190000
DTEND;TZID=America/New_York:20251029T200000
DTSTAMP:20260424T173837
CREATED:20251022T152855Z
LAST-MODIFIED:20251022T152855Z
UID:30000032-1761764400-1761768000@ibcfrankfort.com
SUMMARY:Sanctuary Choir Rehearsal
DESCRIPTION:
URL:https://ibcfrankfort.com/event/sanctuary-choir-rehearsal-5/
CATEGORIES:Music
ATTACH;FMTTYPE=image/jpeg:https://ibcfrankfort.com/wp-content/uploads/2025/06/fbcmem-98-of-257.jpg
END:VEVENT
END:VCALENDAR